BEGIN:VCALENDAR
VERSION:2.0
PRODID:-//Lehramt an Berufsbildenden Schulen - ECPv6.15.20//NONSGML v1.0//EN
CALSCALE:GREGORIAN
METHOD:PUBLISH
X-ORIGINAL-URL:https://berufsschullehramt.de
X-WR-CALDESC:Veranstaltungen für Lehramt an Berufsbildenden Schulen
REFRESH-INTERVAL;VALUE=DURATION:PT1H
X-Robots-Tag:noindex
X-PUBLISHED-TTL:PT1H
BEGIN:VTIMEZONE
TZID:Europe/Berlin
BEGIN:DAYLIGHT
TZOFFSETFROM:+0100
TZOFFSETTO:+0200
TZNAME:CEST
DTSTART:20240331T010000
END:DAYLIGHT
BEGIN:STANDARD
TZOFFSETFROM:+0200
TZOFFSETTO:+0100
TZNAME:CET
DTSTART:20241027T010000
END:STANDARD
BEGIN:DAYLIGHT
TZOFFSETFROM:+0100
TZOFFSETTO:+0200
TZNAME:CEST
DTSTART:20250330T010000
END:DAYLIGHT
BEGIN:STANDARD
TZOFFSETFROM:+0200
TZOFFSETTO:+0100
TZNAME:CET
DTSTART:20251026T010000
END:STANDARD
BEGIN:DAYLIGHT
TZOFFSETFROM:+0100
TZOFFSETTO:+0200
TZNAME:CEST
DTSTART:20260329T010000
END:DAYLIGHT
BEGIN:STANDARD
TZOFFSETFROM:+0200
TZOFFSETTO:+0100
TZNAME:CET
DTSTART:20261025T010000
END:STANDARD
END:VTIMEZONE
BEGIN:VEVENT
DTSTART;TZID=Europe/Berlin:20250123T170000
DTEND;TZID=Europe/Berlin:20250123T190000
DTSTAMP:20260422T132520
CREATED:20241029T153505Z
LAST-MODIFIED:20241029T155430Z
UID:7632-1737651600-1737658800@berufsschullehramt.de
SUMMARY:Tag der offenen Tür
DESCRIPTION:Komm’ vorbei! Werde Berufsschullehrer*in\nWir laden Dich herzlich ein\, das Studium zum Berufsschullehramt an der TU Hamburg kennenzulernen!Du erhältst Einblicke ins Studium und unsere Fachrichtungen Bautechnik\, Elektrotechnik-Informationstechnik\, Holztechnik\, Medientechnik und Metalltechnik. Zudem kannst Du direkt mit Dozierenden ins Gespräch kommen und unsere Institute vor Ort kennen lernen. Wir freuen uns auf Dich! \nTreffpunkt:\n17:00 Uhr an der TU Hamburg\nGebäude A\, im Foyer\nAm Schwarzenberg-Campus 1 \nSiehe auch hier\, was Studierende dazu sagen. \nMehr Infos direkt zum Studiengang findest Du hier.
URL:https://berufsschullehramt.de/event/tag-der-offenen-tuer/
LOCATION:Tag der offenen Tür\, TU Hamburg Gebäude A\, im Foyer Am Schwarzenberg-Campus 1
ATTACH;FMTTYPE=image/png:https://berufsschullehramt.de/wp-content/uploads/2024/11/2025-01_GTW_TagderoffeneTuer_Vorschau.png
END:VEVENT
BEGIN:VEVENT
DTSTART;TZID=Europe/Berlin:20250130T170000
DTEND;TZID=Europe/Berlin:20250130T183000
DTSTAMP:20260422T132520
CREATED:20241219T115536Z
LAST-MODIFIED:20241219T115536Z
UID:7932-1738256400-1738261800@berufsschullehramt.de
SUMMARY:Einladung zur Antrittsvorlesung
DESCRIPTION:Liebe Angehörige der TUHH\, \nim Namen des Dekans\, Prof. Dr. Knutzen sowie im Namen von Prof. Dr. Baumhauer möchte ich Sie herzlich zur Antrittsvorlesung von Prof. Dr. Maren Baumhauer zum Thema “Berufliche Bildung und Digitalisierung: ein (un)bestimmtes Verhältnis?!“einladen. \nSie findet am 30. Januar 2025 um 17 Uhr an der Technischen Universität Hamburg im Lern- und Kommunikationszentrum (LuK\, Gebäude A) statt. \nWir freuen uns auf Ihre Teilnahme und bitten um Anmeldung bis zum 23. Januar 2025 unter: https://intranet.tuhh.de/anmeldung/antrittsv_prof_baumhauer \n\nWir wünschen Ihnen ein besinnliches Weihnachtsfest!
URL:https://berufsschullehramt.de/event/einladung-zur-antrittsvorlesung/
LOCATION:LuK TUHH\, Am Schwarzenberg-Campus 1\, Hamburg\, 21073\, Germany
ATTACH;FMTTYPE=image/jpeg:https://berufsschullehramt.de/wp-content/uploads/2024/12/1.jpg
ORGANIZER;CN="ITBH":MAILTO:itbh@tuhh.de
END:VEVENT
END:VCALENDAR